BEGIN:VCALENDAR
VERSION:2.0
PRODID:icalendar-ruby
CALSCALE:GREGORIAN
METHOD:PUBLISH
BEGIN:VTIMEZONE
TZID:Australia/Melbourne
BEGIN:DAYLIGHT
DTSTART:20261004T030000
TZOFFSETFROM:+1000
TZOFFSETTO:+1100
RRULE:FREQ=YEARLY;BYDAY=1SU;BYMONTH=10
TZNAME:AEDT
END:DAYLIGHT
BEGIN:STANDARD
DTSTART:20260405T020000
TZOFFSETFROM:+1100
TZOFFSETTO:+1000
RRULE:FREQ=YEARLY;BYDAY=1SU;BYMONTH=4
TZNAME:AEST
END:STANDARD
END:VTIMEZONE
BEGIN:VEVENT
DTSTAMP:20260424T151653Z
UID:inspection_932707
DTSTART;TZID=Australia/Melbourne:20210227T113000
DTEND;TZID=Australia/Melbourne:20210227T120000
CLASS:PUBLIC
CREATED:20210223T181300
DESCRIPTION: 
LAST-MODIFIED:20210223T181300
LOCATION:42 Cascade Avenue\, WALLAN VIC 3756\, Australia
SUMMARY:42 Cascade Avenue\,  Inspection
URL;VALUE=URI:http://www.alittlebirdietoldme.com.au/
END:VEVENT
END:VCALENDAR
