BEGIN:VCALENDAR
VERSION:2.0
PRODID:icalendar-ruby
CALSCALE:GREGORIAN
METHOD:PUBLISH
BEGIN:VTIMEZONE
TZID:Australia/Melbourne
BEGIN:DAYLIGHT
DTSTART:20201004T030000
TZOFFSETFROM:+1000
TZOFFSETTO:+1100
RRULE:FREQ=YEARLY;BYDAY=1SU;BYMONTH=10
TZNAME:AEDT
END:DAYLIGHT
BEGIN:STANDARD
DTSTART:20210404T020000
TZOFFSETFROM:+1100
TZOFFSETTO:+1000
RRULE:FREQ=YEARLY;BYDAY=1SU;BYMONTH=4
TZNAME:AEST
END:STANDARD
END:VTIMEZONE
BEGIN:VEVENT
DTSTAMP:20210226T150428Z
UID:inspection_933810
DTSTART;TZID=Australia/Melbourne:20210227T130000
DTEND;TZID=Australia/Melbourne:20210227T133000
CLASS:PUBLIC
CREATED:20210224T163402
DESCRIPTION: 
LAST-MODIFIED:20210224T163402
LOCATION:155 TALLAROOK-PYALONG ROAD\, TALLAROOK VIC 3659\, Australia
SUMMARY:155 TALLAROOK-PYALONG ROAD\,  Inspection
URL:http://www.alittlebirdietoldme.com.au/
END:VEVENT
END:VCALENDAR
