BEGIN:VCALENDAR
VERSION:2.0
PRODID:icalendar-ruby
CALSCALE:GREGORIAN
METHOD:PUBLISH
BEGIN:VEVENT
DTSTAMP:20190228T033252Z
UID:http://www.alittlebirdietoldme.com.au/property?property_id=275770
DTSTART:20180420T143000
DTEND:20180420T150000
CLASS:PUBLIC
CREATED:20180823T093243
DESCRIPTION: 
LAST-MODIFIED:20180823T093243
LOCATION:56 Chisholm Cresent\, SEYMOUR VIC 3660\, Australia
SUMMARY:56 Chisholm Cresent\,  Auction
URL:http://www.alittlebirdietoldme.com.au/property?property_id=275770
END:VEVENT
END:VCALENDAR
