BEGIN:VCALENDAR
VERSION:2.0
PRODID:icalendar-ruby
CALSCALE:GREGORIAN
METHOD:PUBLISH
BEGIN:VEVENT
DTSTAMP:20190228T033221Z
UID:http://www.alittlebirdietoldme.com.au/property?property_id=295687
DTSTART:20181110T110000
DTEND:20181110T113000
CLASS:PUBLIC
CREATED:20181003T141856
DESCRIPTION: 
LAST-MODIFIED:20181203T111039
LOCATION:4 Emily Street\, SEYMOUR VIC 3660\, Australia
SUMMARY:4 Emily Street\,  Auction
URL:http://www.alittlebirdietoldme.com.au/property?property_id=295687
END:VEVENT
END:VCALENDAR
