BEGIN:VCALENDAR
VERSION:2.0
PRODID:icalendar-ruby
CALSCALE:GREGORIAN
METHOD:PUBLISH
BEGIN:VEVENT
DTSTAMP:20190228T033219Z
UID:http://www.alittlebirdietoldme.com.au/property?property_id=303858
DTSTART:20181117T113000
DTEND:20181117T120000
CLASS:PUBLIC
CREATED:20181101T133235
DESCRIPTION: 
LAST-MODIFIED:20190205T162120
LOCATION:10 Kitchener Crescent \, SEYMOUR VIC 3660\, Australia
SUMMARY:10 Kitchener Crescent \,  Auction
URL:http://www.alittlebirdietoldme.com.au/property?property_id=303858
END:VEVENT
END:VCALENDAR
