BEGIN:VCALENDAR
VERSION:2.0
PRODID:icalendar-ruby
CALSCALE:GREGORIAN
METHOD:PUBLISH
BEGIN:VEVENT
DTSTAMP:20190228T032427Z
UID:http://www.alittlebirdietoldme.com.au/property?property_id=332992
DTSTART:20190222T110000
DTEND:20190222T113000
CLASS:PUBLIC
CREATED:20190129T133536
DESCRIPTION: 
LAST-MODIFIED:20190225T113015
LOCATION:211 ANZAC AVENUE\, SEYMOUR VIC 3660\, Australia
SUMMARY:211 ANZAC AVENUE\,  Auction
URL:http://www.alittlebirdietoldme.com.au/property?property_id=332992
END:VEVENT
END:VCALENDAR
